BEGIN:VCALENDAR
VERSION:2.0
PRODID:-//eventon.com NONSGML v1.0//EN
CALSCALE:GREGORIAN
METHOD:PUBLISH
BEGIN:VEVENT
UID:69e748cd5f3eb
DTSTAMP:20260421T115213
DTSTART:20211125T180000Z
DTEND:20211125T210000Z
TZID:Europe/Berlin
LOCATION:
SUMMARY:Skatrunde
DESCRIPTION:Anmeldung Die Skatfreunde treffen sich von 18 – 21 Uhr um bei Contra und Re ihrer Spielfreude zu frönen. Da die Anzahl der Teilnehmer z. Zeit noch überschaubar ist\,  freuen wir uns über jede/n neue/n Spieler/in. Gerne möchten wir auch alle Damen zu unserer Skatrunde einladen. Nur Mut\,  bei uns[..]\nhttps://kultur-in-vinnhorst.de/events/dies-ist-mein-zweites-event/var/ri-5.l-L1
URL:https://kultur-in-vinnhorst.de/events/dies-ist-mein-zweites-event/var/ri-5.l-L1
END:VEVENT
END:VCALENDAR