BEGIN:VCALENDAR
VERSION:2.0
PRODID:-//eventon.com NONSGML v1.0//EN
CALSCALE:GREGORIAN
METHOD:PUBLISH
BEGIN:VEVENT
UID:69ecb90a137c1
DTSTAMP:20260425T145226
DTSTART:20221027T190000Z
DTEND:20221027T235000Z
TZID:Europe/Berlin
LOCATION:
SUMMARY:WortOrt - Lesung mit Dr. Barbara Schlüter
DESCRIPTION:Anmeldung Dr. Barbara Schlüter liest aus &#8222;Verschaukelte Liebe&#8220;: Hannover im Herbst 1891. Die eigensinnige Elsa Martin\,  Ziehtochter in der Architektenfamilie von Elßtorff\,  ist verliebt. Allerdings stehen dem Glück der Zwanzigjährigen zahlreiche Hindernisse im Weg. &nbsp;Dass auch andere junge Frauen große Probleme bewältigen müssen\,  erfährt sie hautnah durch Kontakte zum Magdalenium\, [..]\nhttps://kultur-in-vinnhorst.de/events/wortort-lesung-mit-dr-barbara-schlueter/
URL:https://kultur-in-vinnhorst.de/events/wortort-lesung-mit-dr-barbara-schlueter/
END:VEVENT
END:VCALENDAR