BEGIN:VCALENDAR
VERSION:2.0
PRODID:-//eventon.com NONSGML v1.0//EN
CALSCALE:GREGORIAN
METHOD:PUBLISH
BEGIN:VEVENT
UID:69e5b32658ba0
DTSTAMP:20260420T070126
DTSTART:20220218T193000Z
DTEND:20220218T235000Z
TZID:Europe/Berlin
LOCATION:
SUMMARY:RABEA - IndiePop\,  R'n'B - Gesang & Cello
DESCRIPTION:Anmeldung Gesang und Cello – eine einzigartige Kombination\,  die man viel zu selten zu Gehör bekommt. RABEAs Musik zeichnet sich durch diese Kombination aus: Sie singt und begleitet sich dabei am Cello – mal mit gezupften\,  mal mit gestrichenen Tönen – und verschafft ihren aufrichtigen und persönlichen Texten dadurch einen[..]\nhttps://kultur-in-vinnhorst.de/events/rabea-bollmann-indiepop-rnb-gesang-cello/
URL:https://kultur-in-vinnhorst.de/events/rabea-bollmann-indiepop-rnb-gesang-cello/
END:VEVENT
END:VCALENDAR