BEGIN:VCALENDAR
VERSION:2.0
PRODID:-//eventon.com NONSGML v1.0//EN
CALSCALE:GREGORIAN
METHOD:PUBLISH
BEGIN:VEVENT
UID:69e82a75ed1f6
DTSTAMP:20260422T035501
DTSTART:20220919T150000Z
DTEND:20220919T235000Z
TZID:Europe/Berlin
LOCATION:
SUMMARY:Montags-Café
DESCRIPTION:Anmeldung Am&nbsp; Montag\,  den 17.10.2011 öffnete&nbsp; das&nbsp; Montags-Café der Kulturgemeinschaft Vinnhorst zum ersten Mal für seine Besucher die Türen. Seit dem&nbsp; treffen sich jeden Montag\,  außer an Veranstaltungstagen\,  Mitglieder und Freunde der Kulturgemeinschaft zu Kaffee\,  Tee und&nbsp; Gebäck. Wer Lust hat bastelt\,  strickt oder klönt in geselliger Runde. Die Damen[..]\nhttps://kultur-in-vinnhorst.de/events/montags-cafe-7/var/ri-13.l-L1
URL:https://kultur-in-vinnhorst.de/events/montags-cafe-7/var/ri-13.l-L1
END:VEVENT
END:VCALENDAR