BEGIN:VCALENDAR
VERSION:2.0
PRODID:-//eventon.com NONSGML v1.0//EN
CALSCALE:GREGORIAN
METHOD:PUBLISH
BEGIN:VEVENT
UID:69e7dbce24ebf
DTSTAMP:20260421T221926
DTSTART:20220925T150000Z
DTEND:20220925T163000Z
TZID:Europe/Berlin
LOCATION:
SUMMARY:LeseZeit - "Märchenhafte FamilienZeit"
DESCRIPTION:Anmeldung &#8222;Ein Hund &#8211; ein Versprechen\,  ein Zauber&#8220; &#8211; Märchenhafte FamilienZeit Märchen &amp; Geschichten\,  Raten\,  Malen\,  Spiele und leckere Waffeln! Heute geht es auf die Reise ins Märchenland\,  gut zuhöre\,  denn mit einem Märchenquiz wird dort gerätzelt. Die Rückreise endet wieder in unserem Vinnhorster Kultur-Rathaus mit einem Mal-Angebot (unter Beteiligung[..]\nhttps://kultur-in-vinnhorst.de/events/lesezeit-maerchenhafte-familienzeit/
URL:https://kultur-in-vinnhorst.de/events/lesezeit-maerchenhafte-familienzeit/
END:VEVENT
END:VCALENDAR