BEGIN:VCALENDAR
VERSION:2.0
PRODID:-//eventon.com NONSGML v1.0//EN
CALSCALE:GREGORIAN
METHOD:PUBLISH
BEGIN:VEVENT
UID:69e87a171f09f
DTSTAMP:20260422T093447
DTSTART:20220706T150000Z
DTEND:20220706T190000Z
TZID:Europe/Berlin
LOCATION:
SUMMARY:Schnuppertag Gitarrenunterricht
DESCRIPTION:Terminanfrage Schnuppern Neu ist in der Kulturgemeinschaft Vinnhorst der Instrumental-Unterricht für Kinder und Erwachsene. Qualifizierte Lehrkräfte begleiten die Schülerinnen und Schüler von der Grundausbildung am Instrument bis zu den Stilistiken Klassik-Pop-Rock-Jazz. Am heutigen Schnuppertag wird der Unterricht in Gitarre und E-Gitarre vorgestellt. Die Inhalte werden individuell nach den Wünschen der[..]\nhttps://kultur-in-vinnhorst.de/events/schnuppertag-gitarrenunterricht-2/
URL:https://kultur-in-vinnhorst.de/events/schnuppertag-gitarrenunterricht-2/
END:VEVENT
END:VCALENDAR