BEGIN:VCALENDAR
VERSION:2.0
PRODID:-//eventon.com NONSGML v1.0//EN
CALSCALE:GREGORIAN
METHOD:PUBLISH
BEGIN:VEVENT
UID:69e879ec02ecd
DTSTAMP:20260422T093404
DTSTART:20221223T180000Z
DTEND:20221223T235000Z
TZID:Europe/Berlin
LOCATION:
SUMMARY:Lebendiger Adventskalender Vinnhorst 2022
DESCRIPTION:&#8222;Harmonischer Advent&#8220; mit Generation Harmonie\,  Punsch/Glühwein und Keksen. Ort: Kulturgemeinschaft Vinnhorst\,  Vinnhorster Rathausplatz 1 Uhrzeit: 18.00 Uhr\nhttps://kultur-in-vinnhorst.de/events/lebendiger-adventskalender-vinnhorst-2022-7/
URL:https://kultur-in-vinnhorst.de/events/lebendiger-adventskalender-vinnhorst-2022-7/
END:VEVENT
END:VCALENDAR