BEGIN:VCALENDAR
VERSION:2.0
PRODID:-//eventon.com NONSGML v1.0//EN
CALSCALE:GREGORIAN
METHOD:PUBLISH
BEGIN:VEVENT
UID:69e5bc6726b3f
DTSTAMP:20260420T074055
DTSTART:20230427T190000Z
DTEND:20230427T235000Z
TZID:Europe/Berlin
LOCATION:
SUMMARY:WortOrt - Lesung mit Gabi Stief & Hans-Peter Wiechers
DESCRIPTION:Plätze reservieren &#8222;Der kleine Zug ins Paradies&#8220; Roman. Erschienen September 2022. Drei Frauen in Hannover: die berühmte Mutter\,  die malt\,  schreibt und Künstlerinnen um sich schart\,  die Tochter\,  die gegen Hitler kämpft – und dann ist da noch Kate\,  die Enkelin\,  die 80 Jahre später auf Spurensuche geht. An ihrem[..]\nhttps://kultur-in-vinnhorst.de/events/wortort-lesung-mit-wiechers-stief/
URL:https://kultur-in-vinnhorst.de/events/wortort-lesung-mit-wiechers-stief/
END:VEVENT
END:VCALENDAR