BEGIN:VCALENDAR
VERSION:2.0
PRODID:-//eventon.com NONSGML v1.0//EN
CALSCALE:GREGORIAN
METHOD:PUBLISH
BEGIN:VEVENT
UID:69e9af1a5e5c4
DTSTAMP:20260423T073314
DTSTART:20241107T190000Z
DTEND:20241107T235000Z
TZID:Europe/Berlin
LOCATION:
SUMMARY:Kabarett - "Seepferdchen mit 60" - Bernd Gieseking
DESCRIPTION:Plätze reservieren (bitte bis 15 Min. vor Beginn abholen) Bernd Gieseking mit seinem Kabarettprogramm: Seepferdchen mit 60! &#8230; oder: Ein Mann will hoch hinaus Ein Feuerwerk an Texten vom Reisen\,  Wandern und Sporterlebnissen eines Unsportlichen\,  der auf die Zugspitze steigen will &#8211; und soll. Der TAZ-Kolumnist thematisiert hier selbstironisch das[..]\nhttps://kultur-in-vinnhorst.de/events/kabarett-bernd-gieseking/
URL:https://kultur-in-vinnhorst.de/events/kabarett-bernd-gieseking/
END:VEVENT
END:VCALENDAR