BEGIN:VCALENDAR
VERSION:2.0
PRODID:-//eventon.com NONSGML v1.0//EN
CALSCALE:GREGORIAN
METHOD:PUBLISH
BEGIN:VEVENT
UID:69e4e66f5b138
DTSTAMP:20260419T162759
DTSTART:20230512T193000Z
DTEND:20230512T235000Z
TZID:Europe/Berlin
LOCATION:
SUMMARY:Rathaus Live - Mama` s Cooking
DESCRIPTION:Plätze reservieren When Country gets the Blues\,  so lautet das Motto\,  dem sich die fünfköpfige Band Mama’s Cooking verschrieben hat. Das facettenreiche Repertoire der Band erstreckt sich von Modern Country über Blues mit Rock’n’Roll-Anteilen bis zum leicht angejazzten Blues und umfasst Stücke von Bonnie Raitt\,  Little Feat\, &nbsp; Lynyrd Skynyrd\,  Fleetwood[..]\nhttps://kultur-in-vinnhorst.de/events/rathaus-live-mamas-cooking/
URL:https://kultur-in-vinnhorst.de/events/rathaus-live-mamas-cooking/
END:VEVENT
END:VCALENDAR