BEGIN:VCALENDAR
VERSION:2.0
PRODID:-//eventon.com NONSGML v1.0//EN
CALSCALE:GREGORIAN
METHOD:PUBLISH
BEGIN:VEVENT
UID:69ebf88c4ec7f
DTSTAMP:20260425T011108
DTSTART:20230713T173000Z
DTEND:20230713T200000Z
TZID:Europe/Berlin
LOCATION:
SUMMARY:Kreativ-Kurs "Urban Sketch Hopping"
DESCRIPTION:Anmeldung Urban Sketch Hopping &#8211; Hannover neu entdeckt&#8230; mit Stift und Skizzenbuch! Erkunden Sie unterschiedliche Stadtteile Hannovers und probieren Sie sich dabei als Urban Sketcherin. Sie zeichnen einen Ort so\,  wie Sie ihn erleben. Im Vordergrund stehen dabei der Spaß am Ausprobieren und der Austausch untereinander. Unter der Anleitung von[..]\nhttps://kultur-in-vinnhorst.de/events/kreativ-kurs-urban-sketch-hopping/
URL:https://kultur-in-vinnhorst.de/events/kreativ-kurs-urban-sketch-hopping/
END:VEVENT
END:VCALENDAR