BEGIN:VCALENDAR
VERSION:2.0
PRODID:-//eventon.com NONSGML v1.0//EN
CALSCALE:GREGORIAN
METHOD:PUBLISH
BEGIN:VEVENT
UID:69e5d40d42329
DTSTAMP:20260420T092149
DTSTART:20230622T170000Z
DTEND:20230622T235000Z
TZID:Europe/Berlin
LOCATION:
SUMMARY:WortOrt - Lesung für Kinder (7-10J.) mit Thommi Baake
DESCRIPTION:Plätze reservieren Spannend\,  komische Lesung mit Musik und Geräuschen für Kinder im Alter von 7 bis 10 Jahren mit Begleitperson(en) und andere Erwachsene sind herzlich willkommen. Urlaub im KühlschrankVon und mit Thommi Baake &#8211; Autor\,  Schauspieler\,  Komiker “Pupsende Prinzessinnen\,  vegetarische Kannibalen und schulschwänzende Lehrerinnen … Diese 30 verrückt komischen Geschichten[..]\nhttps://kultur-in-vinnhorst.de/events/wortort-lesung-fuer-kinder-thommi-baake/
URL:https://kultur-in-vinnhorst.de/events/wortort-lesung-fuer-kinder-thommi-baake/
END:VEVENT
END:VCALENDAR