BEGIN:VCALENDAR
VERSION:2.0
PRODID:-//eventon.com NONSGML v1.0//EN
CALSCALE:GREGORIAN
METHOD:PUBLISH
BEGIN:VEVENT
UID:69e91318ea0c3
DTSTAMP:20260422T202736
DTSTART:20230915T193000Z
DTEND:20230915T235000Z
TZID:Europe/Berlin
LOCATION:
SUMMARY:Rathaus Live - Aus jedem Dorf nen Hund
DESCRIPTION:Plätze reservieren „Ganz vorne dabei\,  wenn die Lebensgeister rufen!“ Die Braunschweiger und Nienburger Combo setzt sich zusammen aus den Liedermachern &#8222;Herrengedeck&#8220;\,  &#8222;Groß &amp; Artig&#8220; und &#8222;Meik Mantau&#8220; und sorgt für ausschweifende Konzerte. Von bewegend über witzig bis hin zu Halli Galli ist alles dabei. Das macht es schwer eine passende[..]\nhttps://kultur-in-vinnhorst.de/events/rathaus-live-aus-jedem-dorf-nen-hund/
URL:https://kultur-in-vinnhorst.de/events/rathaus-live-aus-jedem-dorf-nen-hund/
END:VEVENT
END:VCALENDAR