BEGIN:VCALENDAR
VERSION:2.0
PRODID:-//eventon.com NONSGML v1.0//EN
CALSCALE:GREGORIAN
METHOD:PUBLISH
BEGIN:VEVENT
UID:69e5bd8bee507
DTSTAMP:20260420T074547
DTSTART:20230928T190000Z
DTEND:20230928T235000Z
TZID:Europe/Berlin
LOCATION:
SUMMARY:WortOrt - Lesung mit Petra Mensing
DESCRIPTION:Plätze reservieren &#8222;Seid alle herzlich gegrüßt\,  Eure Minnie&#8220; Reisen Sie mit der Autorin Petra Mensing auf den Spuren der Lebensgeschichte ihrer Großtante Minna Faltin (1901-2001) um die Welt: von Hannover-Linden nach Santo Domingo und Kuba bis in die Vereinigten Staaten. Handschriftliche Notizen\,  Briefe und persönliche Erlebnisse waren Basis für Petra[..]\nhttps://kultur-in-vinnhorst.de/events/wortort-lesung-petra-mensing/
URL:https://kultur-in-vinnhorst.de/events/wortort-lesung-petra-mensing/
END:VEVENT
END:VCALENDAR