BEGIN:VCALENDAR
VERSION:2.0
PRODID:-//eventon.com NONSGML v1.0//EN
CALSCALE:GREGORIAN
METHOD:PUBLISH
BEGIN:VEVENT
UID:69e9853a18577
DTSTAMP:20260423T043434
DTSTART:20240402T180000Z
DTEND:20240402T203000Z
TZID:Europe/Berlin
LOCATION:
SUMMARY:Kreativ-Kurs "Acryl-Technik"
DESCRIPTION:Anmeldung Die Künstlerin und Dozentin Sun-Rae Kim zeigt in diesem Kurs\,  wie mit verschiedenen Techniken interessante (abstrakte) Acrylbilder gestaltet werden können. Die Teilnehmenden arbeiten mit Fließtechnik und Strukturpaste. Keine Vorkenntnisse oder Erfahrungen erforderlich. 4 Termine | Dienstag 2.\,  9.\,  16. und 23.4.2024 | 18.00 &#8211; 20.30 Uhr Kursgebühr 40\, - pro[..]\nhttps://kultur-in-vinnhorst.de/events/kreativ-kurs-acryltechnik-mit-sun-rae-kim/
URL:https://kultur-in-vinnhorst.de/events/kreativ-kurs-acryltechnik-mit-sun-rae-kim/
END:VEVENT
END:VCALENDAR