BEGIN:VCALENDAR
VERSION:2.0
PRODID:-//eventon.com NONSGML v1.0//EN
CALSCALE:GREGORIAN
METHOD:PUBLISH
BEGIN:VEVENT
UID:69e5bc678afef
DTSTAMP:20260420T074055
DTSTART:20230912T180000Z
DTEND:20230912T235000Z
TZID:Europe/Berlin
LOCATION:
SUMMARY:Kreativ-Kurs "Schreib das auf!"
DESCRIPTION:Anmeldung &#8222;Schreib das auf!&#8220; &#8211; 1-4 x Dienstag\,  18-20 Uhr\,  14-tägig. In vier Themen-Workshops werden vielfältige Übungen aus dem kreativen und autobiografischen Schreiben ausprobiert und kurze Texte aller Art produziert. Spielerische Impulse leiten dazu an\,  Erinnerungen festzuhalten\,  schreibend zu entspannen\,  sich kleine Geschichten auszudenken und erste Gedichte zu verfassen. Die[..]\nhttps://kultur-in-vinnhorst.de/events/schreibwerkstatt-vinnhorst/
URL:https://kultur-in-vinnhorst.de/events/schreibwerkstatt-vinnhorst/
END:VEVENT
END:VCALENDAR