BEGIN:VCALENDAR
VERSION:2.0
PRODID:-//eventon.com NONSGML v1.0//EN
CALSCALE:GREGORIAN
METHOD:PUBLISH
BEGIN:VEVENT
UID:69e5bd823138c
DTSTAMP:20260420T074538
DTSTART:20240314T190000Z
DTEND:20240314T235000Z
TZID:Europe/Berlin
LOCATION:
SUMMARY:WortOrt - Lesung mit Bettina Reimann
DESCRIPTION:Plätze reservieren (bis 15 Min von Beginn gültig) Der zweite Aller-Leine-Tal-Krimi von Bettina Reimann ist im vergangenen Sommer erschienen. Auf Einladung der Kulturgemeinschaft Vinnhorst lesen Bettina Reimann und Andreas Henning aus dem „Spargel-Geheimnis im Allertal“.  Die Autorin über das Buch: „Wenn du als Kind deine Heimat verlassen und sogar auf[..]\nhttps://kultur-in-vinnhorst.de/events/wortort-lesung-mit-bettina-reimann/
URL:https://kultur-in-vinnhorst.de/events/wortort-lesung-mit-bettina-reimann/
END:VEVENT
END:VCALENDAR