BEGIN:VCALENDAR
VERSION:2.0
PRODID:-//eventon.com NONSGML v1.0//EN
CALSCALE:GREGORIAN
METHOD:PUBLISH
BEGIN:VEVENT
UID:69e6ddd3937c5
DTSTAMP:20260421T041547
DTSTART:20240118T190000Z
DTEND:20240118T235000Z
TZID:Europe/Berlin
LOCATION:
SUMMARY:Männerstammtisch
DESCRIPTION:Anmeldung Jeden dritten&nbsp;Donnerstag im Monat&nbsp; um 19 Uhr lädt der Männerstammtisch ein. Das Thema wird vorher bekannt gegeben. Zu den Männergesprächen gibt es leckeres Essen. Die Kosten dafür betragen 10\, - EUR. Da nur eine bestimmte Anzahl von Sitzplätzen zur Verfügung steht\,  ist eine Anmeldung eine Woche vorab zwingend erforderlich! Tel.[..]\nhttps://kultur-in-vinnhorst.de/events/maennerstammtisch-5/
URL:https://kultur-in-vinnhorst.de/events/maennerstammtisch-5/
END:VEVENT
END:VCALENDAR