BEGIN:VCALENDAR
VERSION:2.0
PRODID:-//eventon.com NONSGML v1.0//EN
CALSCALE:GREGORIAN
METHOD:PUBLISH
BEGIN:VEVENT
UID:69e5bd7c6ec02
DTSTAMP:20260420T074532
DTSTART:20240425T190000Z
DTEND:20240425T235000Z
TZID:Europe/Berlin
LOCATION:
SUMMARY:WortOrt - Lesung mit Wolfram Hänel & Ulrike Gerold
DESCRIPTION:Plätze reservieren (bis 15 Min von Beginn gültig) „Rollator Blues &#8211; Vielleicht muss man ja doch nicht sterben&nbsp;…&#8220; Ulrike Gerold und Wolfram Hänel&nbsp;lesen\,  Hannovers Rock-Urgestein Arndt Schulz liefert den authentischen Soundtrack dazu!&nbsp; Too old to rock&#8217;n&#8217;roll\,  too young to die! Fünf ältere Herren fahren auf den Spuren ihrer Jugend noch[..]\nhttps://kultur-in-vinnhorst.de/events/wortort-lesung-mit-wolfram-haenel-ulrike-gerold-2024/
URL:https://kultur-in-vinnhorst.de/events/wortort-lesung-mit-wolfram-haenel-ulrike-gerold-2024/
END:VEVENT
END:VCALENDAR