BEGIN:VCALENDAR
VERSION:2.0
PRODID:-//eventon.com NONSGML v1.0//EN
CALSCALE:GREGORIAN
METHOD:PUBLISH
BEGIN:VEVENT
UID:69e5d45ee1e9d
DTSTAMP:20260420T092310
DTSTART:20240530T190000Z
DTEND:20240530T235000Z
TZID:Europe/Berlin
LOCATION:
SUMMARY:WortOrt - Lesung mit Mario Bekeschus
DESCRIPTION:Plätze reservieren (bis 15 Min von Beginn gültig) Niedersachsen-Krimi: &#8222;Im Eichtal&#8220; Dichter Nebel umhüllt das Eichtalviertel\,  als unweit der Oker eine zerstückelte Leiche gefunden wird. Noch vor seinem ersten Arbeitstag in Braunschweig eilt Kommissar Wim Schneider zum Fundort. Wenig später taucht eine Fingerkuppe im Naturhistorischen Museum auf. Eine Vermisstenanzeige führt[..]\nhttps://kultur-in-vinnhorst.de/events/wortort-lesung-mit-mario-bekeschus/
URL:https://kultur-in-vinnhorst.de/events/wortort-lesung-mit-mario-bekeschus/
END:VEVENT
END:VCALENDAR