BEGIN:VCALENDAR
VERSION:2.0
PRODID:-//eventon.com NONSGML v1.0//EN
CALSCALE:GREGORIAN
METHOD:PUBLISH
BEGIN:VEVENT
UID:69e82f1a808af
DTSTAMP:20260422T041450
DTSTART:20240616T110000Z
DTEND:20240616T235000Z
TZID:Europe/Berlin
LOCATION:
SUMMARY:Vinnhorster Picknick rot-blau
DESCRIPTION:Die Büsche des Rathausparks sind in Form geschnitten\,  der Rasen gemäht und die Wege gekehrt. Musik und gute Stimmung erwarten die Besucherinnen und Besucher unter der Rathauslinde. Es gilt das Motto: &#8222;Wenn alle was mitbringen\,  ist genug für alle da.&#8220; Tragt zum jährlichen Stadtteil-Picknick gern die Farben des Stadtteils Vinnhorst:[..]\nhttps://kultur-in-vinnhorst.de/events/picknick-rot-blau-2024/
URL:https://kultur-in-vinnhorst.de/events/picknick-rot-blau-2024/
END:VEVENT
END:VCALENDAR