BEGIN:VCALENDAR
VERSION:2.0
PRODID:-//eventon.com NONSGML v1.0//EN
CALSCALE:GREGORIAN
METHOD:PUBLISH
BEGIN:VEVENT
UID:69e4ea35416a9
DTSTAMP:20260419T164405
DTSTART:20240706T140000Z
DTEND:20240706T235000Z
TZID:Europe/Berlin
LOCATION:
SUMMARY:Boßeln
DESCRIPTION:Treffpunkt ist um 14 Uhr auf dem Parkplatz am Mecklenheider Forst. Von dort an wird in gemischten Gruppen Richtung Kinderwald gebosselt. Im Kinderwald angekommen\,  werden wir einen Abstecher zu unserem Baum des Jahres\,  der Traubeneiche machen\,  die wir im März 2014 feierlich gepflanzt haben. Dort und auch zwischendurch wird selbstverständlich[..]\nhttps://kultur-in-vinnhorst.de/events/bosseln-07-2024/
URL:https://kultur-in-vinnhorst.de/events/bosseln-07-2024/
END:VEVENT
END:VCALENDAR