BEGIN:VCALENDAR
VERSION:2.0
PRODID:-//eventon.com NONSGML v1.0//EN
CALSCALE:GREGORIAN
METHOD:PUBLISH
BEGIN:VEVENT
UID:69e5bcc3acf27
DTSTAMP:20260420T074227
DTSTART:20240210T150000Z
DTEND:20240210T235000Z
TZID:Europe/Berlin
LOCATION:
SUMMARY:Kreativ-Workshop - Schreibwerkstatt
DESCRIPTION:Anmeldung &#8222;Schreib das auf!&#8220; &#8211; monatliche Reihe\,  jeweils am 2. Samstag von 15 bis 17 Uhr. Die Termine bitte einzeln buchen: 10. Februar\,  9. März\,  13. April\,  11. Mai\,  8. Juni &#8230;weitere folgen. Du hast Lust\,  mitzuschreiben? Dann komm gerne vorbei! Spielerische Impulse werden dich dazu anleiten\,  deine Erinnerungen festzuhalten[..]\nhttps://kultur-in-vinnhorst.de/events/kreativ-kurs-schreibwerkstatt2024/
URL:https://kultur-in-vinnhorst.de/events/kreativ-kurs-schreibwerkstatt2024/
END:VEVENT
END:VCALENDAR