BEGIN:VCALENDAR
VERSION:2.0
PRODID:-//eventon.com NONSGML v1.0//EN
CALSCALE:GREGORIAN
METHOD:PUBLISH
BEGIN:VEVENT
UID:69e8a427e8535
DTSTAMP:20260422T123415
DTSTART:20241024T190000Z
DTEND:20241024T235000Z
TZID:Europe/Berlin
LOCATION:
SUMMARY:WortOrt - Lesung mit Sabine Göttel
DESCRIPTION:Plätze reservieren (bis 15 Min von Beginn gültig) Sabine Göttel &#8211; „Grillenliebchen“ und andere Gedichte Feldkircher Lyrikpreis 2023 Das Befreit-Werden aus einem existentiellen Gefangen-Sein: ein uraltes\,  zugleich zeitlos aktuelles Thema\,  das Sabine Göttel in ihrer Lyrik aufruft. In ihren Gedichten werden Erinnerungsbilder umgeschichtet und verdichtet\,  poetische Formen erprobt\,  Assoziationsräume geöffnet[..]\nhttps://kultur-in-vinnhorst.de/events/wortort-lesung-mit-sabine-goettel/
URL:https://kultur-in-vinnhorst.de/events/wortort-lesung-mit-sabine-goettel/
END:VEVENT
END:VCALENDAR