BEGIN:VCALENDAR
VERSION:2.0
PRODID:-//eventon.com NONSGML v1.0//EN
CALSCALE:GREGORIAN
METHOD:PUBLISH
BEGIN:VEVENT
UID:69e5bd871f27e
DTSTAMP:20260420T074543
DTSTART:20241128T190000Z
DTEND:20241128T235000Z
TZID:Europe/Berlin
LOCATION:
SUMMARY:WortOrt - Lesung mit Henrik Szántó
DESCRIPTION:Plätze reservieren (bis 15 Min von Beginn gültig) Der Autor und Spoken Word-Künstler Henrik Szántó liest Texte aus seinen Büchern „Entscheidungen und die Äxte\,  mit denen wir sie fällen“ und „Es hat 18 Buchstaben und neun davon sind Ypsilons“. Henrik Szántó lebt im Spannungsfeld der Mehrsprachigkeit. In seinen Texten zu[..]\nhttps://kultur-in-vinnhorst.de/events/wortort-lesung-mit-henrik-szanto/
URL:https://kultur-in-vinnhorst.de/events/wortort-lesung-mit-henrik-szanto/
END:VEVENT
END:VCALENDAR