BEGIN:VCALENDAR
VERSION:2.0
PRODID:-//eventon.com NONSGML v1.0//EN
CALSCALE:GREGORIAN
METHOD:PUBLISH
BEGIN:VEVENT
UID:69e5bd90e7f77
DTSTAMP:20260420T074552
DTSTART:20241019T150000Z
DTEND:20241019T235000Z
TZID:Europe/Berlin
LOCATION:
SUMMARY:Kreativ-Workshop 3 "Alphabet meines Lebens"
DESCRIPTION:Anmeldung Autobiographisches Schreiben: &#8222;Alphabet meines Lebens&#8220; Hast du Lust\,  Erinnerungen aus deinem Leben aufzuschreiben? Von Reisen\,  prägenden Momenten oder einschneidenden Erlebnissen zu erzählen? Dann bist du hier richtig. An vier Terminen werden wir gemeinsam nach Erinnerungen graben\,  Texte entwerfen und uns diese &#8211; falls gewünscht &#8211; gegenseitig vorlesen. Als Impulse[..]\nhttps://kultur-in-vinnhorst.de/events/schreiben2024-10/
URL:https://kultur-in-vinnhorst.de/events/schreiben2024-10/
END:VEVENT
END:VCALENDAR