BEGIN:VCALENDAR
VERSION:2.0
PRODID:-//eventon.com NONSGML v1.0//EN
CALSCALE:GREGORIAN
METHOD:PUBLISH
BEGIN:VEVENT
UID:69ea329e8cf2e
DTSTAMP:20260423T165422
DTSTART:20251028T190000Z
DTEND:20251028T235900Z
TZID:Europe/Berlin
LOCATION:
SUMMARY:Kino - Filmfestival der Generationen
DESCRIPTION:Plätze reservieren (bis 15 Min vor Beginn gültig) Dieses Jahr nehmen wir am Filmfestival der Generationen der Stadt Hannover teil. Wir zeigen Euch den Film &#8222;Sein letztes Rennen&#8220; mit Dieter Hallervorden. Paul Averhoff (Dieter Hallervorden) hat 1956 als Marathonläufer olympisches Gold geholt. Doch jetzt müssen Paul und seine Frau Margot[..]\nhttps://kultur-in-vinnhorst.de/events/nostalgiekino-filmfestival-der-generationen/
URL:https://kultur-in-vinnhorst.de/events/nostalgiekino-filmfestival-der-generationen/
END:VEVENT
END:VCALENDAR