BEGIN:VCALENDAR
VERSION:2.0
PRODID:-//eventon.com NONSGML v1.0//EN
CALSCALE:GREGORIAN
METHOD:PUBLISH
BEGIN:VEVENT
UID:69e5bd6d62bd4
DTSTAMP:20260420T074517
DTSTART:20250227T190000Z
DTEND:20250227T235000Z
TZID:Europe/Berlin
LOCATION:
SUMMARY:WortOrt - Lesung mit Carsten Schütte
DESCRIPTION:Plätze reservieren (bis 15 Min von Beginn gültig) Carsten Schütte stellt sich der Frage: „Wie funktioniert eigentlich Profiling in Deutschland“ und vermittelt seine Vita vom Polizisten zum Mordermittler\,  Profiler und zum AIDA-Krimiautor anhand vieler Beispiele und Geschichten. Er liest aus seinen Kreuzfahrt-Krimis (im Herbst 2024 erschient das vierte Buch der[..]\nhttps://kultur-in-vinnhorst.de/events/wortort-lesung-mit-carsten-schuette/
URL:https://kultur-in-vinnhorst.de/events/wortort-lesung-mit-carsten-schuette/
END:VEVENT
END:VCALENDAR