BEGIN:VCALENDAR
VERSION:2.0
PRODID:-//eventon.com NONSGML v1.0//EN
CALSCALE:GREGORIAN
METHOD:PUBLISH
BEGIN:VEVENT
UID:69e5bdc062526
DTSTAMP:20260420T074640
DTSTART:20250327T190000Z
DTEND:20250327T235000Z
TZID:Europe/Berlin
LOCATION:
SUMMARY:WortOrt - Lesung mit Susanne Fletemeyer
DESCRIPTION:Plätze reservieren (bis 15 Min von Beginn gültig) &#8222;Der Tote im Zoo&#8220; &#8211; Skurril\,  charmant und voller Witz: ein tierisch spannender Kriminalroman mit unerwarteten Wendungen Ein toter Tierpfleger\,  eine bizarre Botschaft\,  ein verschwundenes Schwein: Ihr erster Fall in der neuen Dienststelle führt KommissarinInga Haarmann in den Hannoveraner Zoo. Kam das[..]\nhttps://kultur-in-vinnhorst.de/events/wortort-lesung-mit-susanne-fletemeyer/
URL:https://kultur-in-vinnhorst.de/events/wortort-lesung-mit-susanne-fletemeyer/
END:VEVENT
END:VCALENDAR