BEGIN:VCALENDAR
VERSION:2.0
PRODID:-//eventon.com NONSGML v1.0//EN
CALSCALE:GREGORIAN
METHOD:PUBLISH
BEGIN:VEVENT
UID:69e5bdbb2e31a
DTSTAMP:20260420T074635
DTSTART:20250515T190000Z
DTEND:20250515T235000Z
TZID:Europe/Berlin
LOCATION:
SUMMARY:WortOrt - Lesung mit Rosita Hoppe
DESCRIPTION:Plätze reservieren (bis 15 Min von Beginn gültig) &#8222;Sterne leuchten heller am Meer&#8220; &#8211; Ein Liebesroman Wenn die Liebe dich findet\,  obwohl du gar nicht danach suchst &#8230; Kann man sein Leben von einem auf den anderen Tag komplett umkrempeln?  Als Hanna unverhofft auf der nordfriesischen Insel Amrum strandet\,  verliebt sie[..]\nhttps://kultur-in-vinnhorst.de/events/wortort-lesung-mit-rosita-hoppe/
URL:https://kultur-in-vinnhorst.de/events/wortort-lesung-mit-rosita-hoppe/
END:VEVENT
END:VCALENDAR