BEGIN:VCALENDAR
VERSION:2.0
PRODID:-//eventon.com NONSGML v1.0//EN
CALSCALE:GREGORIAN
METHOD:PUBLISH
BEGIN:VEVENT
UID:69e6c942f3af2
DTSTAMP:20260421T024802
DTSTART:20241207T163000Z
DTEND:20241207T235000Z
TZID:Europe/Berlin
LOCATION:
SUMMARY:Lebendiger Advent 2024 - Marc Kowalski
DESCRIPTION:Motto: &#8222;Lebensgroßes Knusperhäuschen&#8220;\,  die Hexe backt Crêpes\,  Glühwein\,  Kinderpunsch Ort: Marc Kowalski\,  Grashöfe 5 Uhrzeit: 16.30 &#8211; 20.00 Uhr Termine 2024 zum Download\nhttps://kultur-in-vinnhorst.de/events/lebendiger-advent-2024-marc-kowalski/
URL:https://kultur-in-vinnhorst.de/events/lebendiger-advent-2024-marc-kowalski/
END:VEVENT
END:VCALENDAR