BEGIN:VCALENDAR
VERSION:2.0
PRODID:-//eventon.com NONSGML v1.0//EN
CALSCALE:GREGORIAN
METHOD:PUBLISH
BEGIN:VEVENT
UID:69e4d9f9f217c
DTSTAMP:20260419T153449
DTSTART:20241213T170000Z
DTEND:20241213T235000Z
TZID:Europe/Berlin
LOCATION:
SUMMARY:Lebendiger Advent 2024 - TuS Vinnhorst
DESCRIPTION:Motto: &#8222;Weihnachten beim TUS&#8220;\,  Glühwein\,  Punsch\,  Bratwurst\,  Bastelecke Ort: TuS Vinnhorst\,  Grashöfe 27 Uhrzeit: 17.00 &#8211; 20.00 Uhr Termine 2024 zum Download\nhttps://kultur-in-vinnhorst.de/events/lebendiger-advent-2024-tus-vinnhorst/
URL:https://kultur-in-vinnhorst.de/events/lebendiger-advent-2024-tus-vinnhorst/
END:VEVENT
END:VCALENDAR