BEGIN:VCALENDAR
VERSION:2.0
PRODID:-//eventon.com NONSGML v1.0//EN
CALSCALE:GREGORIAN
METHOD:PUBLISH
BEGIN:VEVENT
UID:69e94962bc283
DTSTAMP:20260423T001914
DTSTART:20250224T150000Z
DTEND:20250224T235000Z
TZID:Europe/Berlin
LOCATION:
SUMMARY:Lebendiges Café - Vortrag Frau Drewke-Regitz & Frau Grädner
DESCRIPTION:Plätze reservieren (bis 15 Min vor Beginn gültig) Der AK Stadtteilgeschichte präsentiert einen Vortrag zur Geschichte Vinnhorst: Rundgang durch Alt Vinnhorst &#8211; Die Außenstelle Vinnhorst an der Engelbosteler Chaussee Frau Drewke-Regitz und Frau Grädner nehmen uns mit auf einem gedanklichen Rundgang durch Alt Vinnhorst\,  mit besonderem Schwerpunkt auf die Außenstelle[..]\nhttps://kultur-in-vinnhorst.de/events/lebendiges-cafe-vortrag-frau-drewke-regitz-frau-graedner/
URL:https://kultur-in-vinnhorst.de/events/lebendiges-cafe-vortrag-frau-drewke-regitz-frau-graedner/
END:VEVENT
END:VCALENDAR