BEGIN:VCALENDAR
VERSION:2.0
PRODID:-//eventon.com NONSGML v1.0//EN
CALSCALE:GREGORIAN
METHOD:PUBLISH
BEGIN:VEVENT
UID:69e74921a3b1a
DTSTAMP:20260421T115337
DTSTART:20250113T170000Z
DTEND:20250113T235000Z
TZID:Europe/Berlin
LOCATION:
SUMMARY:Spendenübergabe
DESCRIPTION:Im Anschluss an das MontagsCafé. Der &nbsp;21. lebendige Adventskalender in Vinnhorst war ein voller Erfolg und hat das Miteinander im Stadtteil spürbar gestärkt! Die Veranstaltung\,  organisiert von der Kulturgemeinschaft Vinnhorst\,  startete zunächst mit der Herausforderung\,  genügend TeilnehmerInnen zu finden\,  die ihre Türen öffnen. Doch diese Sorge war schnell vergessen: Immer[..]\nhttps://kultur-in-vinnhorst.de/events/spendenuebergabe/
URL:https://kultur-in-vinnhorst.de/events/spendenuebergabe/
END:VEVENT
END:VCALENDAR