BEGIN:VCALENDAR
VERSION:2.0
PRODID:-//eventon.com NONSGML v1.0//EN
CALSCALE:GREGORIAN
METHOD:PUBLISH
BEGIN:VEVENT
UID:69e5d3eeaf6e9
DTSTAMP:20260420T092118
DTSTART:20250412T150000Z
DTEND:20250412T235900Z
TZID:Europe/Berlin
LOCATION:
SUMMARY:Kreativ-Workshop - Schreibwerkstatt
DESCRIPTION:Anmeldung &#8222;Alphabet meines Lebens&#8220; &#8211; monatliche Reihe\,  jeweils am 2. Samstag von 15 bis 17 Uhr. Die Termine bitte einzeln buchen: 8. März\,  12. April\,  10. Mai\,  14. Juni\, 12. Juli &#8230; weitere folgen. Du hast Lust\,  mitzuschreiben? Dann komm gerne vorbei! Spielerische Impulse werden dich dazu anleiten\,  deine Erinnerungen festzuhalten[..]\nhttps://kultur-in-vinnhorst.de/events/kreativ-workshop-schreibwerkstatt/
URL:https://kultur-in-vinnhorst.de/events/kreativ-workshop-schreibwerkstatt/
END:VEVENT
END:VCALENDAR