BEGIN:VCALENDAR
VERSION:2.0
PRODID:-//eventon.com NONSGML v1.0//EN
CALSCALE:GREGORIAN
METHOD:PUBLISH
BEGIN:VEVENT
UID:69e5d45eda928
DTSTAMP:20260420T092310
DTSTART:20251127T190000Z
DTEND:20251127T235900Z
TZID:Europe/Berlin
LOCATION:
SUMMARY:WortOrt - Lesung mit Dr. Susanne Schieble
DESCRIPTION:Plätze reservieren (bis 15 Min von Beginn gültig) TodesScheibe\,  der vierte Fall von Hauptkommissarin Williamson:Bei einer Dartsgala in Hannover fällt der talentierte deutsche Dartsspieler David Malcolm „The Fog“ Dunst auf der Bühne tot um. Die an den Tatort herbeigeeilte Kommissarin Williamson wittert sogleich ein Verbrechen. Schon bald stellt sich heraus:[..]\nhttps://kultur-in-vinnhorst.de/events/wortort-lesung-mit-dr-susanne-schieble-2/
URL:https://kultur-in-vinnhorst.de/events/wortort-lesung-mit-dr-susanne-schieble-2/
END:VEVENT
END:VCALENDAR