BEGIN:VCALENDAR
VERSION:2.0
PRODID:-//eventon.com NONSGML v1.0//EN
CALSCALE:GREGORIAN
METHOD:PUBLISH
BEGIN:VEVENT
UID:69e74da668fd2
DTSTAMP:20260421T121254
DTSTART:20250714T150000Z
DTEND:20250714T235900Z
TZID:Europe/Berlin
LOCATION:
SUMMARY:Lebendiges Café - Digitale Sprechstunde
DESCRIPTION:Plätze reservieren (bis 15 Min vor Beginn gültig) Wir wiederholen unsere Digitale Sprechstunde!!! Gemütliches Beisammensein bei Kaffee und Kuchen. Du hast Fragen zu deinem Smartphone\,  Laptop o.ä.? Das Piksl-Team berät dich gern und beantwortet Fragen.\nhttps://kultur-in-vinnhorst.de/events/lebendiges-cafe-digitale-sprechstunde-3/
URL:https://kultur-in-vinnhorst.de/events/lebendiges-cafe-digitale-sprechstunde-3/
END:VEVENT
END:VCALENDAR