BEGIN:VCALENDAR
VERSION:2.0
PRODID:-//eventon.com NONSGML v1.0//EN
CALSCALE:GREGORIAN
METHOD:PUBLISH
BEGIN:VEVENT
UID:69e4e725954ff
DTSTAMP:20260419T163101
DTSTART:20251025T180000Z
DTEND:20251025T235900Z
TZID:Europe/Berlin
LOCATION:
SUMMARY:Vinnhorster Oktoberfest 2025
DESCRIPTION:Plätze reservieren &nbsp;Feiern &#8211; geht immer! Bayrische Schmankerln und Bier. Wenn möglich kommt gern in typisch traditioneller Kleidung. Anmeldung bitte bis 10.10.2025! Teilnahmegebühr: 12\, - Euro zzgl. Getränke (Änderungen vorbehalten)\nhttps://kultur-in-vinnhorst.de/events/vinnhorster-oktoberfest-2025/
URL:https://kultur-in-vinnhorst.de/events/vinnhorster-oktoberfest-2025/
END:VEVENT
END:VCALENDAR