BEGIN:VCALENDAR
VERSION:2.0
PRODID:-//eventon.com NONSGML v1.0//EN
CALSCALE:GREGORIAN
METHOD:PUBLISH
BEGIN:VEVENT
UID:69e5bdb6456c4
DTSTAMP:20260420T074630
DTSTART:20251011T150000Z
DTEND:20251011T235900Z
TZID:Europe/Berlin
LOCATION:
SUMMARY:Kreativ-Workshop - Wer schreibt\,  der bleibt-  fällt leider aus!
DESCRIPTION:Im Rahmen von „Hannover in Kapiteln“ . Ein Projekt aus dem Kulturentwicklungsplan der Landeshauptstadt Hannover Je mehr Leben wir gelebt haben\,  umso mehr Erinnerungen schlummern in uns. Sie aufzuschreiben\,  macht Spaß und schafft etwas Bleibendes. Für uns selbst\,  für Freunde\,  für die Familie. In der autobiographischen Schreibwerkstatt wollen wir gemeinsam[..]\nhttps://kultur-in-vinnhorst.de/events/kreativ-workshop-wer-schreibt-der-bleibt-2/
URL:https://kultur-in-vinnhorst.de/events/kreativ-workshop-wer-schreibt-der-bleibt-2/
END:VEVENT
END:VCALENDAR