BEGIN:VCALENDAR
VERSION:2.0
PRODID:-//eventon.com NONSGML v1.0//EN
CALSCALE:GREGORIAN
METHOD:PUBLISH
BEGIN:VEVENT
UID:69e5bd2f42a44
DTSTAMP:20260420T074415
DTSTART:20251122T150000Z
DTEND:20251122T235900Z
TZID:Europe/Berlin
LOCATION:
SUMMARY:Kreativ-Workshop - Wer schreibt\,  der bleibt
DESCRIPTION:Anmeldung Im Rahmen von „Hannover in Kapiteln“ . Ein Projekt aus dem Kulturentwicklungsplan der Landeshauptstadt Hannover Je mehr Leben wir gelebt haben\,  umso mehr Erinnerungen schlummern in uns. Sie aufzuschreiben\,  macht Spaß und schafft etwas Bleibendes. Für uns selbst\,  für Freunde\,  für die Familie. In der autobiographischen Schreibwerkstatt wollen wir[..]\nhttps://kultur-in-vinnhorst.de/events/kreativ-workshop-wer-schreibt-der-bleibt-3/
URL:https://kultur-in-vinnhorst.de/events/kreativ-workshop-wer-schreibt-der-bleibt-3/
END:VEVENT
END:VCALENDAR