BEGIN:VCALENDAR
VERSION:2.0
PRODID:-//eventon.com NONSGML v1.0//EN
CALSCALE:GREGORIAN
METHOD:PUBLISH
BEGIN:VEVENT
UID:69e5bcd542a16
DTSTAMP:20260420T074245
DTSTART:20251029T190000Z
DTEND:20251029T235900Z
TZID:Europe/Berlin
LOCATION:
SUMMARY:WortOrt - Lesung mit Claudia Rimkus
DESCRIPTION:Plätze reservieren (bis 15 Min von Beginn gültig) Klappentext dazu: Übung macht noch keinen Meister Was tut man\,  wenn man sich darüber ärgert\,  wie oft Täter ungestraft davonkommen? Durch Schlupflöcher im Gesetzbuch\,  windige Verteidiger oder zu milde Richter. Die klaffende Lücke zwischen Recht und Gerechtigkeit sollte dringend geschlossen werden. Da[..]\nhttps://kultur-in-vinnhorst.de/events/wortort-lesung-mit-claudia-rimkus/
URL:https://kultur-in-vinnhorst.de/events/wortort-lesung-mit-claudia-rimkus/
END:VEVENT
END:VCALENDAR