BEGIN:VCALENDAR
VERSION:2.0
PRODID:-//eventon.com NONSGML v1.0//EN
CALSCALE:GREGORIAN
METHOD:PUBLISH
BEGIN:VEVENT
UID:69e5bce2bfee1
DTSTAMP:20260420T074258
DTSTART:20260708T160000Z
DTEND:20260708T190000Z
TZID:Europe/Berlin
LOCATION:
SUMMARY:Spielenachmittag
DESCRIPTION:Anmeldung Alle Spielbegeisterten sind herzlich eingeladen! Wir haben die verschiedensten Spiele vorrätig&nbsp;&nbsp;aber&nbsp;Sie können auch gerne Ihr Lieblingsspiel mitbringen. Neue Mitspieler (ab ca. 14 Jahre) sind immer herzlich willkommen und ruhig die Familie\,  Freunde und Spielinteressierte mitbringen.\nhttps://kultur-in-vinnhorst.de/events/spielenachmittag-5/var/ri-12.l-L1
URL:https://kultur-in-vinnhorst.de/events/spielenachmittag-5/var/ri-12.l-L1
END:VEVENT
END:VCALENDAR