BEGIN:VCALENDAR
VERSION:2.0
PRODID:-//eventon.com NONSGML v1.0//EN
CALSCALE:GREGORIAN
METHOD:PUBLISH
BEGIN:VEVENT
UID:69e5bdb13eaaf
DTSTAMP:20260420T074625
DTSTART:20260212T190000Z
DTEND:20260212T235900Z
TZID:Europe/Berlin
LOCATION:
SUMMARY:WortOrt - Lesung mit Meike Döbbeling alias Kia Kaha
DESCRIPTION:Plätze reservieren (bis 15 Min von Beginn gültig) &#8222;Leuchtend Blau&#8220; ein phantastischer Liebes-Kriminalroman aus Neuseeland &nbsp;Für alle\,  die Dunkelheit und Grau für ein paar Stunden entfliehen möchten und sehnsüchtig auf den Sommer warten&#8230; Die Lesung wird zusätzlich musikalisch begleitet. Die Geschichte beginnt mit einem mysteriösen Todesfall: Ende der 1990er Jahre[..]\nhttps://kultur-in-vinnhorst.de/events/wortort-lesung-mit-meike-doebbeling-copy/
URL:https://kultur-in-vinnhorst.de/events/wortort-lesung-mit-meike-doebbeling-copy/
END:VEVENT
END:VCALENDAR