BEGIN:VCALENDAR
VERSION:2.0
PRODID:-//eventon.com NONSGML v1.0//EN
CALSCALE:GREGORIAN
METHOD:PUBLISH
BEGIN:VEVENT
UID:69e7477d40aba
DTSTAMP:20260421T114637
DTSTART:20251220T160000Z
DTEND:20251220T180000Z
TZID:Europe/Berlin
LOCATION:
SUMMARY:Lebendiger Adventskalender Vinnhorst 2025
DESCRIPTION:BV Werder\,  Kurländer Weg 11 &#8222;Wir sind Werder&#8220;\,  Glühwein und Bratwurst vom Holzkohlegrill Keine Anmeldung notwendig. Alle Termine 2025 zum Download\nhttps://kultur-in-vinnhorst.de/events/lebendiger-adventskalender-vinnhorst-2025-4/
URL:https://kultur-in-vinnhorst.de/events/lebendiger-adventskalender-vinnhorst-2025-4/
END:VEVENT
END:VCALENDAR