BEGIN:VCALENDAR
VERSION:2.0
PRODID:-//eventon.com NONSGML v1.0//EN
CALSCALE:GREGORIAN
METHOD:PUBLISH
BEGIN:VEVENT
UID:69e58d7d7c6a1
DTSTAMP:20260420T042045
DTSTART:20260530T150000Z
DTEND:20260530T170000Z
TZID:Europe/Berlin
LOCATION:
SUMMARY:Kreativ-Workshop - Schreibwerkstatt
DESCRIPTION:Anmeldung unter dem Motto &#8222;ICH ERINNERE MICH&#8230;.&#8220; wollen wir dieses Mal über unser eigenes Leben schreiben. In der autobiographischen Schreibwerkstatt wollen wir gemeinsam zurückschauen und mit Hilfe von vielfältigen Schreibimpulsen und freundlichem Feedback kurze Texte entwerfen. Vorkenntnisse sind nicht erforderlich. Bitte Stift\,  Block und Lust aufs Schreiben mitbringen! Termine: (Samstag\, [..]\nhttps://kultur-in-vinnhorst.de/events/kreativ-workshop-schreibwerkstatt-4/
URL:https://kultur-in-vinnhorst.de/events/kreativ-workshop-schreibwerkstatt-4/
END:VEVENT
END:VCALENDAR