BEGIN:VCALENDAR
VERSION:2.0
PRODID:-//eventon.com NONSGML v1.0//EN
CALSCALE:GREGORIAN
METHOD:PUBLISH
BEGIN:VEVENT
UID:69ec08ee13f0b
DTSTAMP:20260425T022102
DTSTART:20240620T140000Z
DTEND:20240620T235900Z
TZID:Europe/Berlin
LOCATION:
SUMMARY:Bosseln & Besuch beim Baum des Jahres (2014)
DESCRIPTION:Treffpunkt ist um 14 Uhr auf dem Parkplatz am Mecklenheider Forst. Von dort an wird in gemischten Gruppen Richtung Kinderwald gebosselt. Im Kinderwald angekommen\,  werden wir einen Abstecher zu unserem Baum des Jahres\,  der Traubeneiche machen\,  die wir im März 2014 feierlich gepflanzt haben. Dort und auch zwischendurch wird selbstverständlich[..]\nhttps://kultur-in-vinnhorst.de/events/bosseln-besuch-beim-baum-des-jahres-2014-3/
URL:https://kultur-in-vinnhorst.de/events/bosseln-besuch-beim-baum-des-jahres-2014-3/
END:VEVENT
END:VCALENDAR