BEGIN:VCALENDAR
VERSION:2.0
PRODID:-//eventon.com NONSGML v1.0//EN
CALSCALE:GREGORIAN
METHOD:PUBLISH
BEGIN:VEVENT
UID:69e840e7ba230
DTSTAMP:20260422T053047
DTSTART:20260705T110000Z
DTEND:20260705T235900Z
TZID:Europe/Berlin
LOCATION:
SUMMARY:Vinnhorster Picknick rot-blau
DESCRIPTION:Alle Jahre wieder laden wir alle herzlich zu unserem Picknick ein. Musik und gute Stimmung erwarten die Besucherinnen und Besucher unter der Rathauslinde. Es gilt das Motto: &#8222;Wenn alle was mitbringen\,  ist genug für alle da.&#8220; Tragt zum jährlichen Stadtteil-Picknick gern die Farben des Stadtteils Vinnhorst: rot und blau. In[..]\nhttps://kultur-in-vinnhorst.de/events/vinnhorster-picknick-rot-blau-2/
URL:https://kultur-in-vinnhorst.de/events/vinnhorster-picknick-rot-blau-2/
END:VEVENT
END:VCALENDAR