BEGIN:VCALENDAR
VERSION:2.0
PRODID:-//eventon.com NONSGML v1.0//EN
CALSCALE:GREGORIAN
METHOD:PUBLISH
BEGIN:VEVENT
UID:69e75dd41f9f4
DTSTAMP:20260421T132156
DTSTART:20260620T140000Z
DTEND:20260620T235900Z
TZID:Europe/Berlin
LOCATION:
SUMMARY:Boßeln im Rahmen von Stadtteilkultur Naturverbunden
DESCRIPTION:Treffpunkt ist um 14 Uhr auf dem Parkplatz am Mecklenheider Forst. Von dort an wird in gemischten Gruppen Richtung Kinderwald gebosselt. Im Kinderwald angekommen\,  werden wir einen Abstecher zu unserem Baum des Jahres\,  der Traubeneiche machen\,  die wir im März 2014 feierlich gepflanzt haben. Dort und auch zwischendurch wird selbstverständlich[..]\nhttps://kultur-in-vinnhorst.de/events/bosseln-im-rahmen-von-stadtteilkultur-naturverbunden/
URL:https://kultur-in-vinnhorst.de/events/bosseln-im-rahmen-von-stadtteilkultur-naturverbunden/
END:VEVENT
END:VCALENDAR