BEGIN:VCALENDAR
VERSION:2.0
PRODID:-//eventon.com NONSGML v1.0//EN
CALSCALE:GREGORIAN
METHOD:PUBLISH
BEGIN:VEVENT
UID:69e5bd4898dd7
DTSTAMP:20260420T074440
DTSTART:20260604T180000Z
DTEND:20260604T210000Z
TZID:Europe/Berlin
LOCATION:
SUMMARY:Skatrunde
DESCRIPTION:Anmeldung Die Skatfreunde treffen sich von 18 – 21 Uhr um bei Contra und Re ihrer Spielfreude zu frönen. Gerne möchten wir auch alle Damen zu unserer Skatrunde einladen. Nur Mut\,  bei uns sind alle herzlich willkommen. Die „Skatler“ treffen sich einmal im Monat\,  gespielt wird ohne Geld und strenge[..]\nhttps://kultur-in-vinnhorst.de/events/skatrunde-15/var/ri-1.l-L1
URL:https://kultur-in-vinnhorst.de/events/skatrunde-15/var/ri-1.l-L1
END:VEVENT
END:VCALENDAR