BEGIN:VCALENDAR
VERSION:2.0
PRODID:-//eventon.com NONSGML v1.0//EN
CALSCALE:GREGORIAN
METHOD:PUBLISH
BEGIN:VEVENT
UID:69e74f6356ca7
DTSTAMP:20260421T122019
DTSTART:20260511T150000Z
DTEND:20260511T235900Z
TZID:Europe/Berlin
LOCATION:
SUMMARY:Lebendiges Café - Digitale Sprechstunde
DESCRIPTION:Plätze reservieren (bis 15 Min vor Beginn gültig) Wir wiederholen unsere Digitale Sprechstunde!!! Gemütliches Beisammensein bei Kaffee und Kuchen. Du hast Fragen zu deinem Smartphone\,  Laptop o.ä.? Das Piksl-Team berät dich gern und beantwortet Fragen.\nhttps://kultur-in-vinnhorst.de/events/lebendiges-cafe-digitale-sprechstunde-8/
URL:https://kultur-in-vinnhorst.de/events/lebendiges-cafe-digitale-sprechstunde-8/
END:VEVENT
END:VCALENDAR